BEGIN:VCALENDAR
VERSION:2.0
PRODID:-//Sartrouville Plong&eacute;e - ECPv6.15.20//NONSGML v1.0//EN
CALSCALE:GREGORIAN
METHOD:PUBLISH
X-ORIGINAL-URL:https://www.sartrouville-plongee.com
X-WR-CALDESC:Évènements pour Sartrouville Plong&eacute;e
REFRESH-INTERVAL;VALUE=DURATION:PT1H
X-Robots-Tag:noindex
X-PUBLISHED-TTL:PT1H
BEGIN:VTIMEZONE
TZID:Europe/Paris
BEGIN:DAYLIGHT
TZOFFSETFROM:+0100
TZOFFSETTO:+0200
TZNAME:CEST
DTSTART:20240331T010000
END:DAYLIGHT
BEGIN:STANDARD
TZOFFSETFROM:+0200
TZOFFSETTO:+0100
TZNAME:CET
DTSTART:20241027T010000
END:STANDARD
BEGIN:DAYLIGHT
TZOFFSETFROM:+0100
TZOFFSETTO:+0200
TZNAME:CEST
DTSTART:20250330T010000
END:DAYLIGHT
BEGIN:STANDARD
TZOFFSETFROM:+0200
TZOFFSETTO:+0100
TZNAME:CET
DTSTART:20251026T010000
END:STANDARD
BEGIN:DAYLIGHT
TZOFFSETFROM:+0100
TZOFFSETTO:+0200
TZNAME:CEST
DTSTART:20260329T010000
END:DAYLIGHT
BEGIN:STANDARD
TZOFFSETFROM:+0200
TZOFFSETTO:+0100
TZNAME:CET
DTSTART:20261025T010000
END:STANDARD
BEGIN:DAYLIGHT
TZOFFSETFROM:+0100
TZOFFSETTO:+0200
TZNAME:CEST
DTSTART:20270328T010000
END:DAYLIGHT
BEGIN:STANDARD
TZOFFSETFROM:+0200
TZOFFSETTO:+0100
TZNAME:CET
DTSTART:20271031T010000
END:STANDARD
END:VTIMEZONE
BEGIN:VTIMEZONE
TZID:Europe/Paris
BEGIN:DAYLIGHT
TZOFFSETFROM:+0100
TZOFFSETTO:+0200
TZNAME:CEST
DTSTART:20240331T010000
END:DAYLIGHT
BEGIN:STANDARD
TZOFFSETFROM:+0200
TZOFFSETTO:+0100
TZNAME:CET
DTSTART:20241027T010000
END:STANDARD
BEGIN:DAYLIGHT
TZOFFSETFROM:+0100
TZOFFSETTO:+0200
TZNAME:CEST
DTSTART:20250330T010000
END:DAYLIGHT
BEGIN:STANDARD
TZOFFSETFROM:+0200
TZOFFSETTO:+0100
TZNAME:CET
DTSTART:20251026T010000
END:STANDARD
BEGIN:DAYLIGHT
TZOFFSETFROM:+0100
TZOFFSETTO:+0200
TZNAME:CEST
DTSTART:20260329T010000
END:DAYLIGHT
BEGIN:STANDARD
TZOFFSETFROM:+0200
TZOFFSETTO:+0100
TZNAME:CET
DTSTART:20261025T010000
END:STANDARD
END:VTIMEZONE
BEGIN:VEVENT
DTSTART;TZID=Europe/Paris:20260416T220000
DTEND;TZID=Europe/Paris:20260416T230000
DTSTAMP:20260422T134655
CREATED:20250416T200018Z
LAST-MODIFIED:20250731T103453Z
UID:713-1776376800-1776380400@www.sartrouville-plongee.com
SUMMARY:Fosse du 16/04/2026
DESCRIPTION:
URL:https://www.sartrouville-plongee.com/event/fosse-du-16-04-2026/
LOCATION:Centre Aquatique de Conflans\, 8 rue Henri Dunant\, Conflans-Sainte-Honorine\, 78700\, France
CATEGORIES:Fosse
ATTACH;FMTTYPE=image/jpeg:https://www.sartrouville-plongee.com/wp-content/uploads/2025/07/Fosse.jpg
END:VEVENT
BEGIN:VEVENT
DTSTART;TZID=Europe/Paris:20260326T200000
DTEND;TZID=Europe/Paris:20260326T210000
DTSTAMP:20260422T134655
CREATED:20250326T200033Z
LAST-MODIFIED:20250731T103449Z
UID:718-1774555200-1774558800@www.sartrouville-plongee.com
SUMMARY:Fosse Apnée du 26/03/2026
DESCRIPTION:
URL:https://www.sartrouville-plongee.com/event/fosse-apnee-du-26-03-2026/
LOCATION:Centre Aquatique de Conflans\, 8 rue Henri Dunant\, Conflans-Sainte-Honorine\, 78700\, France
CATEGORIES:Fosse Apnée
ATTACH;FMTTYPE=image/jpeg:https://www.sartrouville-plongee.com/wp-content/uploads/2025/07/Apnee-1.jpg
END:VEVENT
BEGIN:VEVENT
DTSTART;TZID=Europe/Paris:20260317T220000
DTEND;TZID=Europe/Paris:20260317T230000
DTSTAMP:20260422T134655
CREATED:20250317T210018Z
LAST-MODIFIED:20250731T103437Z
UID:712-1773784800-1773788400@www.sartrouville-plongee.com
SUMMARY:Fosse du 17/03/2026
DESCRIPTION:
URL:https://www.sartrouville-plongee.com/event/fosse-du-17-03-2026/
LOCATION:Centre Aquatique de Conflans\, 8 rue Henri Dunant\, Conflans-Sainte-Honorine\, 78700\, France
CATEGORIES:Fosse
ATTACH;FMTTYPE=image/jpeg:https://www.sartrouville-plongee.com/wp-content/uploads/2025/07/Fosse.jpg
END:VEVENT
BEGIN:VEVENT
DTSTART;TZID=Europe/Paris:20260217T220000
DTEND;TZID=Europe/Paris:20260217T230000
DTSTAMP:20260422T134655
CREATED:20250217T210033Z
LAST-MODIFIED:20250731T103444Z
UID:717-1771365600-1771369200@www.sartrouville-plongee.com
SUMMARY:Fosse Apnée du 17/02/2026
DESCRIPTION:
URL:https://www.sartrouville-plongee.com/event/fosse-apnee-du-17-02-2025/
LOCATION:Centre Aquatique de Conflans\, 8 rue Henri Dunant\, Conflans-Sainte-Honorine\, 78700\, France
CATEGORIES:Fosse Apnée
ATTACH;FMTTYPE=image/jpeg:https://www.sartrouville-plongee.com/wp-content/uploads/2025/07/Apnee-1.jpg
END:VEVENT
BEGIN:VEVENT
DTSTART;TZID=Europe/Paris:20260212T220000
DTEND;TZID=Europe/Paris:20260212T230000
DTSTAMP:20260422T134655
CREATED:20250212T210018Z
LAST-MODIFIED:20250731T103422Z
UID:711-1770933600-1770937200@www.sartrouville-plongee.com
SUMMARY:Fosse du 12/02/2026
DESCRIPTION:
URL:https://www.sartrouville-plongee.com/event/fosse-du-12-02-2026/
LOCATION:Centre Aquatique de Conflans\, 8 rue Henri Dunant\, Conflans-Sainte-Honorine\, 78700\, France
CATEGORIES:Fosse
ATTACH;FMTTYPE=image/jpeg:https://www.sartrouville-plongee.com/wp-content/uploads/2025/07/Fosse.jpg
END:VEVENT
BEGIN:VEVENT
DTSTART;TZID=Europe/Paris:20260129T220000
DTEND;TZID=Europe/Paris:20260129T230000
DTSTAMP:20260422T134655
CREATED:20250129T210017Z
LAST-MODIFIED:20250731T103418Z
UID:710-1769724000-1769727600@www.sartrouville-plongee.com
SUMMARY:Fosse du 29/01/2026 (Niveau 1)
DESCRIPTION:
URL:https://www.sartrouville-plongee.com/event/fosse-du-29-01-2026-niveau-1/
LOCATION:Centre Aquatique de Conflans\, 8 rue Henri Dunant\, Conflans-Sainte-Honorine\, 78700\, France
CATEGORIES:Fosse
ATTACH;FMTTYPE=image/jpeg:https://www.sartrouville-plongee.com/wp-content/uploads/2025/07/Fosse.jpg
END:VEVENT
BEGIN:VEVENT
DTSTART;TZID=Europe/Paris:20260115T220000
DTEND;TZID=Europe/Paris:20260115T230000
DTSTAMP:20260422T134655
CREATED:20250115T210016Z
LAST-MODIFIED:20250731T103413Z
UID:709-1768514400-1768518000@www.sartrouville-plongee.com
SUMMARY:Fosse du 15/01/2026
DESCRIPTION:
URL:https://www.sartrouville-plongee.com/event/fosse-du-15-01-2026/
LOCATION:Centre Aquatique de Conflans\, 8 rue Henri Dunant\, Conflans-Sainte-Honorine\, 78700\, France
CATEGORIES:Fosse
ATTACH;FMTTYPE=image/jpeg:https://www.sartrouville-plongee.com/wp-content/uploads/2025/07/Fosse.jpg
END:VEVENT
BEGIN:VEVENT
DTSTART;VALUE=DATE:20260108
DTEND;VALUE=DATE:20260112
DTSTAMP:20260422T134655
CREATED:20250108T120440Z
LAST-MODIFIED:20250731T103406Z
UID:881-1767830400-1768175999@www.sartrouville-plongee.com
SUMMARY:Salon de la plongée
DESCRIPTION:Du JEUDI 8 au DIMANCHE 11 JANVIER 2026 \nLe jeudi 8 janvier de 10h00 à 19h00\nLe vendredi 9 janvier de 10h00 à 21h00\nLes samedi 10 et dimanche 11 janvier de 10h00 à 19h00
URL:https://www.sartrouville-plongee.com/event/salon-de-la-plongee/
LOCATION:Parc des Expositions de Paris\, 1 place de la Porte de Versailles\, Paris\, 75015\, France
CATEGORIES:Autres
ATTACH;FMTTYPE=image/jpeg:https://www.sartrouville-plongee.com/wp-content/uploads/2025/07/SalonPlongee.jpg
END:VEVENT
BEGIN:VEVENT
DTSTART;TZID=Europe/Paris:20251216T220000
DTEND;TZID=Europe/Paris:20251216T230000
DTSTAMP:20260422T134655
CREATED:20241216T210016Z
LAST-MODIFIED:20250731T103400Z
UID:708-1765922400-1765926000@www.sartrouville-plongee.com
SUMMARY:Fosse du 16/12/2025
DESCRIPTION:
URL:https://www.sartrouville-plongee.com/event/fosse-du-16-12-2025/
LOCATION:Centre Aquatique de Conflans\, 8 rue Henri Dunant\, Conflans-Sainte-Honorine\, 78700\, France
CATEGORIES:Fosse
ATTACH;FMTTYPE=image/jpeg:https://www.sartrouville-plongee.com/wp-content/uploads/2025/07/Fosse.jpg
END:VEVENT
BEGIN:VEVENT
DTSTART;TZID=Europe/Paris:20251206T100000
DTEND;TZID=Europe/Paris:20251206T170000
DTSTAMP:20260422T134655
CREATED:20241205T230044Z
LAST-MODIFIED:20250910T080704Z
UID:2051-1765015200-1765040400@www.sartrouville-plongee.com
SUMMARY:Soutenez le Téléthon
DESCRIPTION:
URL:https://www.sartrouville-plongee.com/event/telethon-2025/
LOCATION:CAP Sartrouville\, 7 rue du bas de la Plaine\, SARTROUVILLE\, 78500\, France
CATEGORIES:Autres
ATTACH;FMTTYPE=image/jpeg:https://www.sartrouville-plongee.com/wp-content/uploads/2025/09/Telethon.jpg
END:VEVENT
BEGIN:VEVENT
DTSTART;TZID=Europe/Paris:20251120T220000
DTEND;TZID=Europe/Paris:20251120T230000
DTSTAMP:20260422T134655
CREATED:20241120T210016Z
LAST-MODIFIED:20250731T103355Z
UID:707-1763676000-1763679600@www.sartrouville-plongee.com
SUMMARY:Fosse du 20/11/2025
DESCRIPTION:
URL:https://www.sartrouville-plongee.com/event/fosse-du-20-11-2025/
LOCATION:Centre Aquatique de Conflans\, 8 rue Henri Dunant\, Conflans-Sainte-Honorine\, 78700\, France
CATEGORIES:Fosse
ATTACH;FMTTYPE=image/jpeg:https://www.sartrouville-plongee.com/wp-content/uploads/2025/07/Fosse.jpg
END:VEVENT
BEGIN:VEVENT
DTSTART;TZID=Europe/Paris:20251104T210000
DTEND;TZID=Europe/Paris:20251104T220000
DTSTAMP:20260422T134655
CREATED:20241104T200033Z
LAST-MODIFIED:20250731T102807Z
UID:716-1762290000-1762293600@www.sartrouville-plongee.com
SUMMARY:Fosse Apnée du 04/11/2025
DESCRIPTION:
URL:https://www.sartrouville-plongee.com/event/fosse-apnee-du-04-11-2025/
LOCATION:Centre Aquatique de Conflans\, 8 rue Henri Dunant\, Conflans-Sainte-Honorine\, 78700\, France
CATEGORIES:Fosse Apnée
ATTACH;FMTTYPE=image/jpeg:https://www.sartrouville-plongee.com/wp-content/uploads/2025/07/Apnee-1.jpg
END:VEVENT
BEGIN:VEVENT
DTSTART;TZID=Europe/Paris:20251014T220000
DTEND;TZID=Europe/Paris:20251014T230000
DTSTAMP:20260422T134655
CREATED:20241014T200016Z
LAST-MODIFIED:20250731T102802Z
UID:706-1760479200-1760482800@www.sartrouville-plongee.com
SUMMARY:Fosse du 14/10/2025
DESCRIPTION:
URL:https://www.sartrouville-plongee.com/event/fosse-du-14-10-2025/
LOCATION:Centre Aquatique de Conflans\, 8 rue Henri Dunant\, Conflans-Sainte-Honorine\, 78700\, France
CATEGORIES:Fosse
ATTACH;FMTTYPE=image/jpeg:https://www.sartrouville-plongee.com/wp-content/uploads/2025/07/Fosse.jpg
END:VEVENT
BEGIN:VEVENT
DTSTART;TZID=Europe/Paris:20251004T173000
DTEND;TZID=Europe/Paris:20251004T193000
DTSTAMP:20260422T134655
CREATED:20241004T133257Z
LAST-MODIFIED:20250807T114235Z
UID:1180-1759599000-1759606200@www.sartrouville-plongee.com
SUMMARY:Initiation Sirènes & Tritons
DESCRIPTION:🎯 Pour qui ? Enfants de 8 à 10 ans (groupe de 8 maximum) \n🎽 Encadrement Animé par Karine (Entraîneur Apnée N2) et Cécile alias Zélia la sirène (Mermaid Instructor SSI) \n🌊 Objectif de l’initiation :\n– Découvrir l’apnée\,\n– Apprendre à nager avec une monopalme\,\n– Jouer sous l’eau tout en incarnant une créature marine légendaire. \n💸 Tarif : 40 € (incluant matériel\, encadrement\, entrée piscine et assurance FFESSM)
URL:https://www.sartrouville-plongee.com/event/initiation-sirenes-tritons/
LOCATION:CAP Sartrouville\, 7 rue du bas de la Plaine\, SARTROUVILLE\, 78500\, France
CATEGORIES:Autres
ATTACH;FMTTYPE=image/jpeg:https://www.sartrouville-plongee.com/wp-content/uploads/2025/08/Mermaid-1.jpg
END:VEVENT
BEGIN:VEVENT
DTSTART;TZID=Europe/Paris:20250917T193000
DTEND;TZID=Europe/Paris:20250917T223000
DTSTAMP:20260422T134655
CREATED:20240917T173028Z
LAST-MODIFIED:20250805T215022Z
UID:991-1758137400-1758148200@www.sartrouville-plongee.com
SUMMARY:Rentrée du Club de Plongée
DESCRIPTION:
URL:https://www.sartrouville-plongee.com/event/rentree-du-club-de-plongee/
LOCATION:CAP Sartrouville\, 7 rue du bas de la Plaine\, SARTROUVILLE\, 78500\, France
CATEGORIES:Autres
ATTACH;FMTTYPE=image/jpeg:https://www.sartrouville-plongee.com/wp-content/uploads/2025/07/Plongee.jpg
END:VEVENT
BEGIN:VEVENT
DTSTART;TZID=Europe/Paris:20250907T100000
DTEND;TZID=Europe/Paris:20250907T170000
DTSTAMP:20260422T134655
CREATED:20240907T080016Z
LAST-MODIFIED:20250810T114825Z
UID:878-1757239200-1757264400@www.sartrouville-plongee.com
SUMMARY:Salon des associations 2025
DESCRIPTION:
URL:https://www.sartrouville-plongee.com/event/salon-des-associations-2025/
LOCATION:Parc du Dispensaire\, 1 avenue Maurice Berteaux\, Sartrouville\, 78500\, France
CATEGORIES:Autres
ATTACH;FMTTYPE=image/jpeg:https://www.sartrouville-plongee.com/wp-content/uploads/2025/07/SalonAsso.jpg
END:VEVENT
BEGIN:VEVENT
DTSTART;TZID=Europe/Paris:20250831T100000
DTEND;TZID=Europe/Paris:20250831T120000
DTSTAMP:20260422T134655
CREATED:20240831T080029Z
LAST-MODIFIED:20250807T194058Z
UID:111-1756634400-1756641600@www.sartrouville-plongee.com
SUMMARY:Lac du dimanche 31 août 2025
DESCRIPTION:
URL:https://www.sartrouville-plongee.com/event/lac-du-dimanche-31-aout-2025/
LOCATION:Lac de Beaumont\, 89 rue Saint-Roch\, Beaumont sur Oise\, 95260\, France
CATEGORIES:Lac
ATTACH;FMTTYPE=image/jpeg:https://www.sartrouville-plongee.com/wp-content/uploads/2025/07/Lac.jpg
END:VEVENT
BEGIN:VEVENT
DTSTART;TZID=Europe/Paris:20250803T100000
DTEND;TZID=Europe/Paris:20250803T120000
DTSTAMP:20260422T134655
CREATED:20240803T080003Z
LAST-MODIFIED:20250807T194141Z
UID:475-1754215200-1754222400@www.sartrouville-plongee.com
SUMMARY:Lac du dimanche 3 août 2025
DESCRIPTION:
URL:https://www.sartrouville-plongee.com/event/lac-dimanche-3-aout-2025/
LOCATION:Lac de Beaumont\, 89 rue Saint-Roch\, Beaumont sur Oise\, 95260\, France
CATEGORIES:Lac
ATTACH;FMTTYPE=image/jpeg:https://www.sartrouville-plongee.com/wp-content/uploads/2025/07/Lac.jpg
END:VEVENT
END:VCALENDAR